Workbook

Sheet 은평구총괄
B1: 은평구 등록장애인 현황 (2026. 6월 말 기준)
B3: 서울특별시 은평구 | J3: (단위 : 명)
B5: 자치구 | C5: 장애유형 | D5: 합계 | G5: 심한 장애 | J5: 심하지 않은 장애
D6: 계 | E6: 남 | F6: 여 | G6: 계 | H6: 남 | I6: 여 | J6: 계 | K6: 남 | L6: 여
B7: 은평구 | C7: 합 계 | D7: 21050 | E7: 12217 | F7: 8833 | G7: 7986 | H7: 4949 | I7: 3037 | J7: 13064 | K7: 7268 | L7: 5796
C8: 지체 | D8: 8097 | E8: 4400 | F8: 3697 | G8: 1311 | H8: 841 | I8: 470 | J8: 6786 | K8: 3559 | L8: 3227
C9: 시각 | D9: 2259 | E9: 1337 | F9: 922 | G9: 438 | H9: 236 | I9: 202 | J9: 1821 | K9: 1101 | L9: 720
C10: 청각 | D10: 3342 | E10: 1847 | F10: 1495 | G10: 583 | H10: 292 | I10: 291 | J10: 2759 | K10: 1555 | L10: 1204
C11: 언어 | D11: 171 | E11: 124 | F11: 47 | G11: 100 | H11: 73 | I11: 27 | J11: 71 | K11: 51 | L11: 20
C12: 지적 | D12: 1882 | E12: 1221 | F12: 661 | G12: 1882 | H12: 1221 | I12: 661 | J12: 0 | K12: 0 | L12: 0
C13: 뇌병변 | D13: 2019 | E13: 1181 | F13: 838 | G13: 1104 | H13: 605 | I13: 499 | J13: 915 | K13: 576 | L13: 339
C14: 자폐성 | D14: 559 | E14: 458 | F14: 101 | G14: 559 | H14: 458 | I14: 101 | J14: 0 | K14: 0 | L14: 0
C15: 정신 | D15: 1103 | E15: 662 | F15: 441 | G15: 1058 | H15: 639 | I15: 419 | J15: 45 | K15: 23 | L15: 22
C16: 신장 | D16: 1001 | E16: 606 | F16: 395 | G16: 773 | H16: 472 | I16: 301 | J16: 228 | K16: 134 | L16: 94
C17: 심장 | D17: 44 | E17: 24 | F17: 20 | G17: 30 | H17: 12 | I17: 18 | J17: 14 | K17: 12 | L17: 2
C18: 호흡기 | D18: 108 | E18: 74 | F18: 34 | G18: 102 | H18: 72 | I18: 30 | J18: 6 | K18: 2 | L18: 4
C19: 간 | D19: 175 | E19: 106 | F19: 69 | G19: 6 | H19: 3 | I19: 3 | J19: 169 | K19: 103 | L19: 66
... C22: 뇌전증 | D22: 61 | E22: 31 | F22: 30 | G22: 13 | H22: 8 | I22: 5 | J22: 48 | K22: 23 | L22: 25

Sheet 유형별
A1: 은평구 동별 장애인현황(유형별) (2026. 6월말)
A2: 동별 | B2: 합계 | E2: 지체 | H2: 시각 | K2: 청각 | N2: 언어 | Q2: 지적 | T2: 뇌병변 | W2: 자폐 | Z2: 정신 | AC2: 신장 | AF2: 심장 | AI2: 호흡기 | AL2: 간 | AO2: 안면 | AR2: 장루.요루 | AU2: 뇌전증
B3: 합계 | C3: 남성 | D3: 여성 | E3: 소계 | F3: 남성 | G3: 여성 | H3: 소계 | I3: 남성 | J3: 여성 | K3: 소계 | L3: 남성 | M3: 여성 | N3: 소계 | O3: 남성 | P3: 여성 | Q3: 소계 | R3: 남성 | S3: 여성 | T3: 소계 | U3: 남성 | V3: 여성 | W3: 소계 | X3: 남성 | Y3: 여성 | Z3: 소계 | AA3: 남성 | AB3: 여성 | AC3: 소계 | AD3: 남성 | AE3: 여성 | AF3: 소계 | AG3: 남성 | AH3: 여성 | AI3: 소계 | AJ3: 남성 | AK3: 여성 | AL3: 소계 | AM3: 남성 | AN3: 여성 | AO3: 소계 | AP3: 남성 | AQ3: 여성 | AR3: 소계 | AS3: 남성 | AT3: 여성 | AU3: 소계 | AV3: 남성 | AW3: 여성
A4: 합 계 | B4: 21050 | C4: 12217 | D4: 8833 | E4: 8097 | F4: 4400 | G4: 3697 | H4: 2259 | I4: 1337 | J4: 922 | K4: 3342 | L4: 1847 | M4: 1495 | N4: 171 | O4: 124 | P4: 47 | Q4: 1882 | R4: 1221 | S4: 661 | T4: 2019 | U4: 1181 | V4: 838 | W4: 559 | X4: 458 | Y4: 101 | Z4: 1103 | AA4: 662 | AB4: 441 | AC4: 1001 | AD4: 606 | AE4: 395 | AF4: 44 | AG4: 24 | AH4: 20 | AI4: 108 | AJ4: 74 | AK4: 34 | AL4: 175 | AM4: 106 | AN4: 69 | AO4: 25 | AP4: 15 | AQ4: 10 | AR4: 204 | AS4: 131 | AT4: 73 | AU4: 61 | AV4: 31 | AW4: 30
A5: 녹번동 | B5: 1612 | C5: 923 | D5: 689 | E5: 676 | F5: 365 | G5: 311 | H5: 177 | I5: 119 | J5: 58 | K5: 288 | L5: 155 | M5: 133 | N5: 14 | O5: 10 | P5: 4 | Q5: 117 | R5: 74 | S5: 43 | T5: 143 | U5: 72 | V5: 71 | W5: 26 | X5: 21 | Y5: 5 | Z5: 63 | AA5: 34 | AB5: 29 | AC5: 77 | AD5: 51 | AE5: 26 | AF5: 1 | AG5: 0 | AH5: 1 | AI5: 2 | AJ5: 0 | AK5: 2 | AL5: 8 | AM5: 7 | AN5: 1 | AO5: 2 | AP5: 2 | AQ5: 0 | AR5: 17 | AS5: 12 | AT5: 5 | AU5: 1 | AV5: 1 | AW5: 0
A6: 불광1동 | B6: 1385 | C6: 769 | D6: 616 | E6: 528 | F6: 290 | G6: 238 | H6: 161 | I6: 92 | J6: 69 | K6: 227 | L6: 120 | M6: 107 | N6: 10 | O6: 8 | P6: 2 | Q6: 107 | R6: 63 | S6: 44 | T6: 136 | U6: 73 | V6: 63 | W6: 33 | X6: 27 | Y6: 6 | Z6: 54 | AA6: 28 | AB6: 26 | AC6: 81 | AD6: 39 | AE6: 42 | AF6: 5 | AG6: 1 | AH6: 4 | AI6: 9 | AJ6: 8 | AK6: 1 | AL6: 17 | AM6: 9 | AN6: 8 | AO6: 1 | AP6: 1 | AQ6: 0 | AR6: 15 | AS6: 9 | AT6: 6 | AU6: 1 | AV6: 1 | AW6: 0
A7: 불광2동 | B7: 1457 | C7: 847 | D7: 610 | E7: 547 | F7: 313 | G7: 234 | H7: 167 | I7: 111 | J7: 56 | K7: 262 | L7: 148 | M7: 114 | N7: 14 | O7: 12 | P7: 2 | Q7: 115 | R7: 67 | S7: 48 | T7: 123 | U7: 72 | V7: 51 | W7: 35 | X7: 35 | Y7: 0 | Z7: 76 | AA7: 26 | AB7: 50 | AC7: 76 | AD7: 43 | AE7: 33 | AF7: 3 | AG7: 3 | AH7: 0 | AI7: 2 | AJ7: 2 | AK7: 0 | AL7: 7 | AM7: 4 | AN7: 3 | AO7: 3 | AP7: 1 | AQ7: 2 | AR7: 16 | AS7: 5 | AT7: 11 | AU7: 11 | AV7: 5 | AW7: 6
A8: 갈현1동 | B8: 692 | C8: 400 | D8: 292 | E8: 272 | F8: 141 | G8: 131 | H8: 89 | I8: 52 | J8: 37 | K8: 99 | L8: 59 | M8: 40 | N8: 4 | O8: 3 | P8: 1 | Q8: 61 | R8: 38 | S8: 23 | T8: 60 | U8: 41 | V8: 19 | W8: 19 | X8: 17 | Y8: 2 | Z8: 35 | AA8: 18 | AB8: 17 | AC8: 29 | AD8: 15 | AE8: 14 | AF8: 1 | AG8: 1 | AH8: 0 | AI8: 2 | AJ8: 2 | AK8: 0 | AL8: 9 | AM8: 5 | AN8: 4 | AO8: 0 | AP8: 0 | AQ8: 0 | AR8: 10 | AS8: 7 | AT8: 3 | AU8: 2 | AV8: 1 | AW8: 1
A9: 갈현2동 | B9: 1235 | C9: 711 | D9: 524 | E9: 495 | F9: 268 | G9: 227 | H9: 124 | I9: 78 | J9: 46 | K9: 200 | L9: 118 | M9: 82 | N9: 15 | O9: 12 | P9: 3 | Q9: 101 | R9: 62 | S9: 39 | T9: 108 | U9: 65 | V9: 43 | W9: 25 | X9: 17 | Y9: 8 | Z9: 73 | AA9: 33 | AB9: 40 | AC9: 53 | AD9: 33 | AE9: 20 | AF9: 6 | AG9: 2 | AH9: 4 | AI9: 8 | AJ9: 7 | AK9: 1 | AL9: 14 | AM9: 8 | AN9: 6 | AO9: 0 | AP9: 0 | AQ9: 0 | AR9: 10 | AS9: 7 | AT9: 3 | AU9: 3 | AV9: 1 | AW9: 2
A10: 구산동 | B10: 2095 | C10: 1432 | D10: 663 | E10: 582 | F10: 334 | G10: 248 | H10: 171 | I10: 104 | J10: 67 | K10: 237 | L10: 132 | M10: 105 | N10: 17 | O10: 11 | P10: 6 | Q10: 389 | R10: 303 | S10: 86 | T10: 217 | U10: 151 | V10: 66 | W10: 54 | X10: 42 | Y10: 12 | Z10: 300 | AA10: 259 | AB10: 41 | AC10: 66 | AD10: 48 | AE10: 18 | AF10: 0 | AG10: 0 | AH10: 0 | AI10: 22 | AJ10: 16 | AK10: 6 | AL10: 15 | AM10: 13 | AN10: 2 | AO10: 2 | AP10: 1 | AQ10: 1 | AR10: 19 | AS10: 15 | AT10: 4 | AU10: 4 | AV10: 3 | AW10: 1
A11: 대조동 | B11: 1225 | C11: 698 | D11: 527 | E11: 489 | F11: 261 | G11: 228 | H11: 147 | I11: 78 | J11: 69 | K11: 205 | L11: 119 | M11: 86 | N11: 8 | O11: 5 | P11: 3 | Q11: 72 | R11: 51 | S11: 21 | T11: 116 | U11: 68 | V11: 48 | W11: 27 | X11: 21 | Y11: 6 | Z11: 67 | AA11: 32 | AB11: 35 | AC11: 63 | AD11: 42 | AE11: 21 | AF11: 2 | AG11: 1 | AH11: 1 | AI11: 6 | AJ11: 5 | AK11: 1 | AL11: 6 | AM11: 4 | AN11: 2 | AO11: 2 | AP11: 2 | AQ11: 0 | AR11: 13 | AS11: 9 | AT11: 4 | AU11: 2 | AV11: 0 | AW11: 2
A12: 응암1동 | B12: 1305 | C12: 719 | D12: 586 | E12: 545 | F12: 284 | G12: 261 | H12: 158 | I12: 89 | J12: 69 | K12: 222 | L12: 107 | M12: 115 | N12: 6 | O12: 5 | P12: 1 | Q12: 71 | R12: 43 | S12: 28 | T12: 127 | U12: 78 | V12: 49 | W12: 33 | X12: 27 | Y12: 6 | Z12: 53 | AA12: 32 | AB12: 21 | AC12: 61 | AD12: 35 | AE12: 26 | AF12: 5 | AG12: 3 | AH12: 2 | AI12: 3 | AJ12: 3 | AK12: 0 | AL12: 6 | AM12: 2 | AN12: 4 | AO12: 2 | AP12: 2 | AQ12: 0 | AR12: 9 | AS12: 7 | AT12: 2 | AU12: 4 | AV12: 2 | AW12: 2
A13: 응암2동 | B13: 953 | C13: 537 | D13: 416 | E13: 356 | F13: 192 | G13: 164 | H13: 93 | I13: 51 | J13: 42 | K13: 155 | L13: 79 | M13: 76 | N13: 10 | O13: 8 | P13: 2 | Q13: 77 | R13: 50 | S13: 27 | T13: 95 | U13: 51 | V13: 44 | W13: 36 | X13: 30 | Y13: 6 | Z13: 47 | AA13: 30 | AB13: 17 | AC13: 50 | AD13: 26 | AE13: 24 | AF13: 3 | AG13: 2 | AH13: 1 | AI13: 9 | AJ13: 6 | AK13: 3 | AL13: 8 | AM13: 4 | AN13: 4 | AO13: 2 | AP13: 0 | AQ13: 2 | AR13: 8 | AS13: 5 | AT13: 3 | AU13: 4 | AV13: 3 | AW13: 1
A14: 응암3동 | B14: 1319 | C14: 725 | D14: 594 | E14: 508 | F14: 266 | G14: 242 | H14: 152 | I14: 85 | J14: 67 | K14: 247 | L14: 123 | M14: 124 | N14: 6 | O14: 4 | P14: 2 | Q14: 90 | R14: 59 | S14: 31 | T14: 135 | U14: 80 | V14: 55 | W14: 26 | X14: 19 | Y14: 7 | Z14: 51 | AA14: 29 | AB14: 22 | AC14: 59 | AD14: 38 | AE14: 21 | AF14: 3 | AG14: 1 | AH14: 2 | AI14: 12 | AJ14: 7 | AK14: 5 | AL14: 9 | AM14: 2 | AN14: 7 | AO14: 0 | AP14: 0 | AQ14: 0 | AR14: 14 | AS14: 10 | AT14: 4 | AU14: 7 | AV14: 2 | AW14: 5
A15: 역촌동 | B15: 2192 | C15: 1237 | D15: 955 | E15: 905 | F15: 473 | G15: 432 | H15: 218 | I15: 124 | J15: 94 | K15: 340 | L15: 200 | M15: 140 | N15: 17 | O15: 8 | P15: 9 | Q15: 204 | R15: 127 | S15: 77 | T15: 208 | U15: 121 | V15: 87 | W15: 49 | X15: 42 | Y15: 7 | Z15: 89 | AA15: 40 | AB15: 49 | AC15: 117 | AD15: 73 | AE15: 44 | AF15: 2 | AG15: 2 | AH15: 0 | AI15: 14 | AJ15: 6 | AK15: 8 | AL15: 12 | AM15: 8 | AN15: 4 | AO15: 2 | AP15: 2 | AQ15: 0 | AR15: 13 | AS15: 9 | AT15: 4 | AU15: 2 | AV15: 2 | AW15: 0
... A20: 진관동 | B20: 1926 | C20: 1128 | D20: 798 | E20: 752 | F20: 417 | G20: 335 | H20: 217 | I20: 124 | J20: 93 | K20: 289 | L20: 154 | M20: 135 | N20: 15 | O20: 13 | P20: 2 | Q20: 133 | R20: 84 | S20: 49 | T20: 216 | U20: 128 | V20: 88 | W20: 96 | X20: 80 | Y20: 16 | Z20: 51 | AA20: 24 | AB20: 27 | AC20: 86 | AD20: 58 | AE20: 28 | AF20: 6 | AG20: 4 | AH20: 2 | AI20: 7 | AJ20: 5 | AK20: 2 | AL20: 29 | AM20: 19 | AN20: 10 | AO20: 2 | AP20: 0 | AQ20: 2 | AR20: 21 | AS20: 14 | AT20: 7 | AU20: 6 | AV20: 4 | AW20: 2

Sheet 정도별
B2: 은평구 동별 장애인현황(정도별)
B3: *2026. 6월말 기준 | K3: (단위 : 명)
B4: 자치구 | C4: 동 | D4: 합계 | G4: 심한 장애 | J4: 심하지 않은 장애
D5: 계 | E5: 남자 | F5: 여자 | G5: 계 | H5: 남자 | I5: 여자 | J5: 계 | K5: 남자 | L5: 여자
B6: 은평구 | C6: 합 계 | D6: 21050 | E6: 12217 | F6: 8833 | G6: 7986 | H6: 4949 | I6: 3037 | J6: 13064 | K6: 7268 | L6: 5796
C7: 녹번동 | D7: 1612 | E7: 923 | F7: 689 | G7: 536 | H7: 315 | I7: 221 | J7: 1076 | K7: 608 | L7: 468
C8: 불광1동 | D8: 1385 | E8: 769 | F8: 616 | G8: 494 | H8: 276 | I8: 218 | J8: 891 | K8: 493 | L8: 398
C9: 불광2동 | D9: 1457 | E9: 847 | F9: 610 | G9: 508 | H9: 300 | I9: 208 | J9: 949 | K9: 547 | L9: 402
C10: 갈현1동 | D10: 692 | E10: 400 | F10: 292 | G10: 252 | H10: 148 | I10: 104 | J10: 440 | K10: 252 | L10: 188
C11: 갈현2동 | D11: 1235 | E11: 711 | F11: 524 | G11: 453 | H11: 264 | I11: 189 | J11: 782 | K11: 447 | L11: 335
C12: 구산동 | D12: 2095 | E12: 1432 | F12: 663 | G12: 1139 | H12: 876 | I12: 263 | J12: 956 | K12: 556 | L12: 400
C13: 대조동 | D13: 1225 | E13: 698 | F13: 527 | G13: 433 | H13: 263 | I13: 170 | J13: 792 | K13: 435 | L13: 357
C14: 응암1동 | D14: 1305 | E14: 719 | F14: 586 | G14: 448 | H14: 262 | I14: 186 | J14: 857 | K14: 457 | L14: 400
C15: 응암2동 | D15: 953 | E15: 537 | F15: 416 | G15: 379 | H15: 231 | I15: 148 | J15: 574 | K15: 306 | L15: 268
C16: 응암3동 | D16: 1319 | E16: 725 | F16: 594 | G16: 406 | H16: 240 | I16: 166 | J16: 913 | K16: 485 | L16: 428
C17: 역촌동 | D17: 2192 | E17: 1237 | F17: 955 | G17: 815 | H17: 477 | I17: 338 | J17: 1377 | K17: 760 | L17: 617
C18: 신사1동 | D18: 1272 | E18: 749 | F18: 523 | G18: 507 | H18: 306 | I18: 201 | J18: 765 | K18: 443 | L18: 322
... C22: 진관동 | D22: 1926 | E22: 1128 | F22: 798 | G22: 755 | H22: 480 | I22: 275 | J22: 1171 | K22: 648 | L22: 523

Sheet 연령별
A1: 은평구 장애인 연령구간별(5세 간격), 장애정도별 등록 현황
A2: =정도별!B3 -> *2026. 6월말 기준
J3: (단위: 명)
A4: 구분 | B4: 나이 | C4: 합계 | F4: 심한 장애 | I4: 심하지 않은 장애
C5: 합계 | D5: 남성 | E5: 여성 | F5: 소계 | G5: 남성 | H5: 여성 | I5: 소계 | J5: 남성 | K5: 여성
A6: 합계 | B6: 합계 | C6: 21050 | D6: 12217 | E6: 8833 | F6: 7986 | G6: 4949 | H6: 3037 | I6: 13064 | J6: 7268 | K6: 5796
B7: 0~4 | C7: 38 | D7: 17 | E7: 21 | F7: 29 | G7: 14 | H7: 15 | I7: 9 | J7: 3 | K7: 6
B8: 5~9 | C8: 254 | D8: 168 | E8: 86 | F8: 236 | G8: 158 | H8: 78 | I8: 18 | J8: 10 | K8: 8
B9: 10~14 | C9: 321 | D9: 218 | E9: 103 | F9: 299 | G9: 206 | H9: 93 | I9: 22 | J9: 12 | K9: 10
B10: 15~19 | C10: 314 | D10: 218 | E10: 96 | F10: 273 | G10: 192 | H10: 81 | I10: 41 | J10: 26 | K10: 15
B11: 20~24 | C11: 333 | D11: 204 | E11: 129 | F11: 278 | G11: 174 | H11: 104 | I11: 55 | J11: 30 | K11: 25
B12: 25~29 | C12: 469 | D12: 286 | E12: 183 | F12: 363 | G12: 230 | H12: 133 | I12: 106 | J12: 56 | K12: 50
B13: 30~34 | C13: 575 | D13: 365 | E13: 210 | F13: 436 | G13: 283 | H13: 153 | I13: 139 | J13: 82 | K13: 57
B14: 35~39 | C14: 514 | D14: 338 | E14: 176 | F14: 329 | G14: 225 | H14: 104 | I14: 185 | J14: 113 | K14: 72
B15: 40~44 | C15: 598 | D15: 386 | E15: 212 | F15: 336 | G15: 198 | H15: 138 | I15: 262 | J15: 188 | K15: 74
B16: 45~49 | C16: 804 | D16: 555 | E16: 249 | F16: 420 | G16: 275 | H16: 145 | I16: 384 | J16: 280 | K16: 104
B17: 50~54 | C17: 1213 | D17: 817 | E17: 396 | F17: 586 | G17: 370 | H17: 216 | I17: 627 | J17: 447 | K17: 180
B18: 55~59 | C18: 1594 | D18: 1073 | E18: 521 | F18: 689 | G18: 441 | H18: 248 | I18: 905 | J18: 632 | K18: 273
... B28: 105~109 | C28: 3 | D28: 2 | E28: 1 | F28: 1 | G28: 0 | H28: 1 | I28: 2 | J28: 2 | K28: 0

Sheet 연령별,유형별
A1: 은평구 등록장애인 연령별, 유형별 현황
B2: =정도별!B3 -> *2026. 6월말 기준
A3: 구분 | B3: 나이 | C3: 합계 | F3: 지체 | I3: 시각 | L3: 청각 | O3: 언어 | R3: 지적 | U3: 뇌병변 | X3: 자폐 | AA3: 정신 | AD3: 신장 | AG3: 심장 | AJ3: 호흡기 | AM3: 간 | AP3: 안면 | AS3: 장루.요루 | AV3: 뇌전증
C4: 합계 | D4: 남성 | E4: 여성 | F4: 소계 | G4: 남성 | H4: 여성 | I4: 소계 | J4: 남성 | K4: 여성 | L4: 소계 | M4: 남성 | N4: 여성 | O4: 소계 | P4: 남성 | Q4: 여성 | R4: 소계 | S4: 남성 | T4: 여성 | U4: 소계 | V4: 남성 | W4: 여성 | X4: 소계 | Y4: 남성 | Z4: 여성 | AA4: 소계 | AB4: 남성 | AC4: 여성 | AD4: 소계 | AE4: 남성 | AF4: 여성 | AG4: 소계 | AH4: 남성 | AI4: 여성 | AJ4: 소계 | AK4: 남성 | AL4: 여성 | AM4: 소계 | AN4: 남성 | AO4: 여성 | AP4: 소계 | AQ4: 남성 | AR4: 여성 | AS4: 소계 | AT4: 남성 | AU4: 여성 | AV4: 소계 | AW4: 남성 | AX4: 여성
A5: 합계 | C5: 21050 | D5: 12217 | E5: 8833 | F5: 8097 | G5: 4400 | H5: 3697 | I5: 2259 | J5: 1337 | K5: 922 | L5: 3342 | M5: 1847 | N5: 1495 | O5: 171 | P5: 124 | Q5: 47 | R5: 1882 | S5: 1221 | T5: 661 | U5: 2019 | V5: 1181 | W5: 838 | X5: 559 | Y5: 458 | Z5: 101 | AA5: 1103 | AB5: 662 | AC5: 441 | AD5: 1001 | AE5: 606 | AF5: 395 | AG5: 44 | AH5: 24 | AI5: 20 | AJ5: 108 | AK5: 74 | AL5: 34 | AM5: 175 | AN5: 106 | AO5: 69 | AP5: 25 | AQ5: 15 | AR5: 10 | AS5: 204 | AT5: 131 | AU5: 73 | AV5: 61 | AW5: 31 | AX5: 30
A6: 합계 | B6: 0 | C6: 1 | D6: 1 | E6: 0 | F6: 0 | G6: 0 | H6: 0 | I6: 0 | J6: 0 | K6: 0 | L6: 1 | M6: 1 | N6: 0 | O6: 0 | P6: 0 | Q6: 0 | R6: 0 | S6: 0 | T6: 0 | U6: 0 | V6: 0 | W6: 0 | X6: 0 | Y6: 0 | Z6: 0 | AA6: 0 | AB6: 0 | AC6: 0 | AD6: 0 | AE6: 0 | AF6: 0 | AG6: 0 | AH6: 0 | AI6: 0 | AJ6: 0 | AK6: 0 | AL6: 0 | AM6: 0 | AN6: 0 | AO6: 0 | AP6: 0 | AQ6: 0 | AR6: 0 | AS6: 0 | AT6: 0 | AU6: 0 | AV6: 0 | AW6: 0 | AX6: 0
B7: 1 | C7: 3 | D7: 1 | E7: 2 | F7: 0 | G7: 0 | H7: 0 | I7: 0 | J7: 0 | K7: 0 | L7: 0 | M7: 0 | N7: 0 | O7: 0 | P7: 0 | Q7: 0 | R7: 0 | S7: 0 | T7: 0 | U7: 3 | V7: 1 | W7: 2 | X7: 0 | Y7: 0 | Z7: 0 | AA7: 0 | AB7: 0 | AC7: 0 | AD7: 0 | AE7: 0 | AF7: 0 | AG7: 0 | AH7: 0 | AI7: 0 | AJ7: 0 | AK7: 0 | AL7: 0 | AM7: 0 | AN7: 0 | AO7: 0 | AP7: 0 | AQ7: 0 | AR7: 0 | AS7: 0 | AT7: 0 | AU7: 0 | AV7: 0 | AW7: 0 | AX7: 0
B8: 2 | C8: 12 | D8: 3 | E8: 9 | F8: 0 | G8: 0 | H8: 0 | I8: 0 | J8: 0 | K8: 0 | L8: 0 | M8: 0 | N8: 0 | O8: 0 | P8: 0 | Q8: 0 | R8: 0 | S8: 0 | T8: 0 | U8: 11 | V8: 3 | W8: 8 | X8: 0 | Y8: 0 | Z8: 0 | AA8: 0 | AB8: 0 | AC8: 0 | AD8: 0 | AE8: 0 | AF8: 0 | AG8: 0 | AH8: 0 | AI8: 0 | AJ8: 0 | AK8: 0 | AL8: 0 | AM8: 1 | AN8: 0 | AO8: 1 | AP8: 0 | AQ8: 0 | AR8: 0 | AS8: 0 | AT8: 0 | AU8: 0 | AV8: 0 | AW8: 0 | AX8: 0
B9: 3 | C9: 7 | D9: 4 | E9: 3 | F9: 0 | G9: 0 | H9: 0 | I9: 0 | J9: 0 | K9: 0 | L9: 1 | M9: 0 | N9: 1 | O9: 0 | P9: 0 | Q9: 0 | R9: 1 | S9: 0 | T9: 1 | U9: 3 | V9: 2 | W9: 1 | X9: 2 | Y9: 2 | Z9: 0 | AA9: 0 | AB9: 0 | AC9: 0 | AD9: 0 | AE9: 0 | AF9: 0 | AG9: 0 | AH9: 0 | AI9: 0 | AJ9: 0 | AK9: 0 | AL9: 0 | AM9: 0 | AN9: 0 | AO9: 0 | AP9: 0 | AQ9: 0 | AR9: 0 | AS9: 0 | AT9: 0 | AU9: 0 | AV9: 0 | AW9: 0 | AX9: 0
B10: 4 | C10: 15 | D10: 8 | E10: 7 | F10: 0 | G10: 0 | H10: 0 | I10: 0 | J10: 0 | K10: 0 | L10: 2 | M10: 1 | N10: 1 | O10: 1 | P10: 1 | Q10: 0 | R10: 1 | S10: 0 | T10: 1 | U10: 9 | V10: 4 | W10: 5 | X10: 1 | Y10: 1 | Z10: 0 | AA10: 0 | AB10: 0 | AC10: 0 | AD10: 1 | AE10: 1 | AF10: 0 | AG10: 0 | AH10: 0 | AI10: 0 | AJ10: 0 | AK10: 0 | AL10: 0 | AM10: 0 | AN10: 0 | AO10: 0 | AP10: 0 | AQ10: 0 | AR10: 0 | AS10: 0 | AT10: 0 | AU10: 0 | AV10: 0 | AW10: 0 | AX10: 0
B11: 5 | C11: 24 | D11: 15 | E11: 9 | F11: 0 | G11: 0 | H11: 0 | I11: 1 | J11: 1 | K11: 0 | L11: 0 | M11: 0 | N11: 0 | O11: 4 | P11: 3 | Q11: 1 | R11: 6 | S11: 3 | T11: 3 | U11: 2 | V11: 1 | W11: 1 | X11: 11 | Y11: 7 | Z11: 4 | AA11: 0 | AB11: 0 | AC11: 0 | AD11: 0 | AE11: 0 | AF11: 0 | AG11: 0 | AH11: 0 | AI11: 0 | AJ11: 0 | AK11: 0 | AL11: 0 | AM11: 0 | AN11: 0 | AO11: 0 | AP11: 0 | AQ11: 0 | AR11: 0 | AS11: 0 | AT11: 0 | AU11: 0 | AV11: 0 | AW11: 0 | AX11: 0
B12: 6 | C12: 50 | D12: 30 | E12: 20 | F12: 1 | G12: 1 | H12: 0 | I12: 1 | J12: 1 | K12: 0 | L12: 4 | M12: 2 | N12: 2 | O12: 1 | P12: 0 | Q12: 1 | R12: 4 | S12: 2 | T12: 2 | U12: 7 | V12: 3 | W12: 4 | X12: 31 | Y12: 21 | Z12: 10 | AA12: 0 | AB12: 0 | AC12: 0 | AD12: 0 | AE12: 0 | AF12: 0 | AG12: 0 | AH12: 0 | AI12: 0 | AJ12: 0 | AK12: 0 | AL12: 0 | AM12: 0 | AN12: 0 | AO12: 0 | AP12: 0 | AQ12: 0 | AR12: 0 | AS12: 1 | AT12: 0 | AU12: 1 | AV12: 0 | AW12: 0 | AX12: 0
B13: 7 | C13: 53 | D13: 36 | E13: 17 | F13: 0 | G13: 0 | H13: 0 | I13: 1 | J13: 1 | K13: 0 | L13: 0 | M13: 0 | N13: 0 | O13: 1 | P13: 1 | Q13: 0 | R13: 10 | S13: 7 | T13: 3 | U13: 9 | V13: 4 | W13: 5 | X13: 31 | Y13: 23 | Z13: 8 | AA13: 0 | AB13: 0 | AC13: 0 | AD13: 0 | AE13: 0 | AF13: 0 | AG13: 0 | AH13: 0 | AI13: 0 | AJ13: 0 | AK13: 0 | AL13: 0 | AM13: 0 | AN13: 0 | AO13: 0 | AP13: 0 | AQ13: 0 | AR13: 0 | AS13: 0 | AT13: 0 | AU13: 0 | AV13: 1 | AW13: 0 | AX13: 1
B14: 8 | C14: 65 | D14: 43 | E14: 22 | F14: 1 | G14: 0 | H14: 1 | I14: 1 | J14: 1 | K14: 0 | L14: 0 | M14: 0 | N14: 0 | O14: 2 | P14: 1 | Q14: 1 | R14: 16 | S14: 10 | T14: 6 | U14: 7 | V14: 2 | W14: 5 | X14: 38 | Y14: 29 | Z14: 9 | AA14: 0 | AB14: 0 | AC14: 0 | AD14: 0 | AE14: 0 | AF14: 0 | AG14: 0 | AH14: 0 | AI14: 0 | AJ14: 0 | AK14: 0 | AL14: 0 | AM14: 0 | AN14: 0 | AO14: 0 | AP14: 0 | AQ14: 0 | AR14: 0 | AS14: 0 | AT14: 0 | AU14: 0 | AV14: 0 | AW14: 0 | AX14: 0
B15: 9 | C15: 62 | D15: 44 | E15: 18 | F15: 0 | G15: 0 | H15: 0 | I15: 0 | J15: 0 | K15: 0 | L15: 2 | M15: 0 | N15: 2 | O15: 3 | P15: 3 | Q15: 0 | R15: 19 | S15: 13 | T15: 6 | U15: 6 | V15: 3 | W15: 3 | X15: 31 | Y15: 24 | Z15: 7 | AA15: 0 | AB15: 0 | AC15: 0 | AD15: 0 | AE15: 0 | AF15: 0 | AG15: 0 | AH15: 0 | AI15: 0 | AJ15: 0 | AK15: 0 | AL15: 0 | AM15: 0 | AN15: 0 | AO15: 0 | AP15: 0 | AQ15: 0 | AR15: 0 | AS15: 1 | AT15: 1 | AU15: 0 | AV15: 0 | AW15: 0 | AX15: 0
B16: 10 | C16: 75 | D16: 59 | E16: 16 | F16: 2 | G16: 2 | H16: 0 | I16: 1 | J16: 0 | K16: 1 | L16: 3 | M16: 2 | N16: 1 | O16: 1 | P16: 1 | Q16: 0 | R16: 24 | S16: 20 | T16: 4 | U16: 4 | V16: 1 | W16: 3 | X16: 40 | Y16: 33 | Z16: 7 | AA16: 0 | AB16: 0 | AC16: 0 | AD16: 0 | AE16: 0 | AF16: 0 | AG16: 0 | AH16: 0 | AI16: 0 | AJ16: 0 | AK16: 0 | AL16: 0 | AM16: 0 | AN16: 0 | AO16: 0 | AP16: 0 | AQ16: 0 | AR16: 0 | AS16: 0 | AT16: 0 | AU16: 0 | AV16: 0 | AW16: 0 | AX16: 0
B17: 11 | C17: 67 | D17: 45 | E17: 22 | F17: 0 | G17: 0 | H17: 0 | I17: 0 | J17: 0 | K17: 0 | L17: 4 | M17: 0 | N17: 4 | O17: 0 | P17: 0 | Q17: 0 | R17: 28 | S17: 19 | T17: 9 | U17: 10 | V17: 6 | W17: 4 | X17: 25 | Y17: 20 | Z17: 5 | AA17: 0 | AB17: 0 | AC17: 0 | AD17: 0 | AE17: 0 | AF17: 0 | AG17: 0 | AH17: 0 | AI17: 0 | AJ17: 0 | AK17: 0 | AL17: 0 | AM17: 0 | AN17: 0 | AO17: 0 | AP17: 0 | AQ17: 0 | AR17: 0 | AS17: 0 | AT17: 0 | AU17: 0 | AV17: 0 | AW17: 0 | AX17: 0
B18: 12 | C18: 51 | D18: 32 | E18: 19 | F18: 0 | G18: 0 | H18: 0 | I18: 3 | J18: 0 | K18: 3 | L18: 3 | M18: 1 | N18: 2 | O18: 1 | P18: 1 | Q18: 0 | R18: 22 | S18: 12 | T18: 10 | U18: 4 | V18: 4 | W18: 0 | X18: 17 | Y18: 13 | Z18: 4 | AA18: 0 | AB18: 0 | AC18: 0 | AD18: 0 | AE18: 0 | AF18: 0 | AG18: 0 | AH18: 0 | AI18: 0 | AJ18: 0 | AK18: 0 | AL18: 0 | AM18: 1 | AN18: 1 | AO18: 0 | AP18: 0 | AQ18: 0 | AR18: 0 | AS18: 0 | AT18: 0 | AU18: 0 | AV18: 0 | AW18: 0 | AX18: 0
... B46: 40 | C46: 109 | D46: 64 | E46: 45 | F46: 32 | G46: 19 | H46: 13 | I46: 19 | J46: 11 | K46: 8 | L46: 3 | M46: 2 | N46: 1 | O46: 2 | P46: 2 | Q46: 0 | R46: 24 | S46: 14 | T46: 10 | U46: 5 | V46: 4 | W46: 1 | X46: 5 | Y46: 5 | Z46: 0 | AA46: 10 | AB46: 5 | AC46: 5 | AD46: 5 | AE46: 1 | AF46: 4 | AG46: 0 | AH46: 0 | AI46: 0 | AJ46: 0 | AK46: 0 | AL46: 0 | AM46: 1 | AN46: 0 | AO46: 1 | AP46: 0 | AQ46: 0 | AR46: 0 | AS46: 1 | AT46: 0 | AU46: 1 | AV46: 2 | AW46: 1 | AX46: 1
A47: 합계 | B47: 41 | C47: 112 | D47: 66 | E47: 46 | F47: 31 | G47: 21 | H47: 10 | I47: 16 | J47: 9 | K47: 7 | L47: 2 | M47: 1 | N47: 1 | O47: 0 | P47: 0 | Q47: 0 | R47: 22 | S47: 12 | T47: 10 | U47: 10 | V47: 6 | W47: 4 | X47: 3 | Y47: 2 | Z47: 1 | AA47: 16 | AB47: 10 | AC47: 6 | AD47: 8 | AE47: 3 | AF47: 5 | AG47: 0 | AH47: 0 | AI47: 0 | AJ47: 0 | AK47: 0 | AL47: 0 | AM47: 1 | AN47: 1 | AO47: 0 | AP47: 0 | AQ47: 0 | AR47: 0 | AS47: 0 | AT47: 0 | AU47: 0 | AV47: 3 | AW47: 1 | AX47: 2
B48: 42 | C48: 105 | D48: 73 | E48: 32 | F48: 30 | G48: 25 | H48: 5 | I48: 9 | J48: 6 | K48: 3 | L48: 3 | M48: 1 | N48: 2 | O48: 1 | P48: 0 | Q48: 1 | R48: 30 | S48: 21 | T48: 9 | U48: 15 | V48: 9 | W48: 6 | X48: 0 | Y48: 0 | Z48: 0 | AA48: 12 | AB48: 9 | AC48: 3 | AD48: 5 | AE48: 2 | AF48: 3 | AG48: 0 | AH48: 0 | AI48: 0 | AJ48: 0 | AK48: 0 | AL48: 0 | AM48: 0 | AN48: 0 | AO48: 0 | AP48: 0 | AQ48: 0 | AR48: 0 | AS48: 0 | AT48: 0 | AU48: 0 | AV48: 0 | AW48: 0 | AX48: 0
B49: 43 | C49: 126 | D49: 85 | E49: 41 | F49: 34 | G49: 28 | H49: 6 | I49: 21 | J49: 19 | K49: 2 | L49: 3 | M49: 1 | N49: 2 | O49: 0 | P49: 0 | Q49: 0 | R49: 25 | S49: 13 | T49: 12 | U49: 14 | V49: 8 | W49: 6 | X49: 1 | Y49: 0 | Z49: 1 | AA49: 16 | AB49: 9 | AC49: 7 | AD49: 8 | AE49: 4 | AF49: 4 | AG49: 2 | AH49: 2 | AI49: 0 | AJ49: 0 | AK49: 0 | AL49: 0 | AM49: 1 | AN49: 0 | AO49: 1 | AP49: 0 | AQ49: 0 | AR49: 0 | AS49: 1 | AT49: 1 | AU49: 0 | AV49: 0 | AW49: 0 | AX49: 0
B50: 44 | C50: 146 | D50: 98 | E50: 48 | F50: 50 | G50: 42 | H50: 8 | I50: 18 | J50: 13 | K50: 5 | L50: 7 | M50: 3 | N50: 4 | O50: 2 | P50: 1 | Q50: 1 | R50: 30 | S50: 16 | T50: 14 | U50: 11 | V50: 8 | W50: 3 | X50: 3 | Y50: 2 | Z50: 1 | AA50: 14 | AB50: 8 | AC50: 6 | AD50: 7 | AE50: 3 | AF50: 4 | AG50: 0 | AH50: 0 | AI50: 0 | AJ50: 0 | AK50: 0 | AL50: 0 | AM50: 0 | AN50: 0 | AO50: 0 | AP50: 0 | AQ50: 0 | AR50: 0 | AS50: 1 | AT50: 1 | AU50: 0 | AV50: 3 | AW50: 1 | AX50: 2
B51: 45 | C51: 164 | D51: 118 | E51: 46 | F51: 50 | G51: 39 | H51: 11 | I51: 24 | J51: 18 | K51: 6 | L51: 10 | M51: 6 | N51: 4 | O51: 1 | P51: 0 | Q51: 1 | R51: 37 | S51: 29 | T51: 8 | U51: 19 | V51: 12 | W51: 7 | X51: 2 | Y51: 2 | Z51: 0 | AA51: 14 | AB51: 7 | AC51: 7 | AD51: 7 | AE51: 5 | AF51: 2 | AG51: 0 | AH51: 0 | AI51: 0 | AJ51: 0 | AK51: 0 | AL51: 0 | AM51: 0 | AN51: 0 | AO51: 0 | AP51: 0 | AQ51: 0 | AR51: 0 | AS51: 0 | AT51: 0 | AU51: 0 | AV51: 0 | AW51: 0 | AX51: 0
B52: 46 | C52: 154 | D52: 98 | E52: 56 | F52: 56 | G52: 41 | H52: 15 | I52: 12 | J52: 7 | K52: 5 | L52: 12 | M52: 6 | N52: 6 | O52: 0 | P52: 0 | Q52: 0 | R52: 25 | S52: 14 | T52: 11 | U52: 14 | V52: 8 | W52: 6 | X52: 0 | Y52: 0 | Z52: 0 | AA52: 21 | AB52: 12 | AC52: 9 | AD52: 11 | AE52: 8 | AF52: 3 | AG52: 0 | AH52: 0 | AI52: 0 | AJ52: 0 | AK52: 0 | AL52: 0 | AM52: 2 | AN52: 2 | AO52: 0 | AP52: 0 | AQ52: 0 | AR52: 0 | AS52: 0 | AT52: 0 | AU52: 0 | AV52: 1 | AW52: 0 | AX52: 1
B53: 47 | C53: 165 | D53: 113 | E53: 52 | F53: 73 | G53: 58 | H53: 15 | I53: 14 | J53: 9 | K53: 5 | L53: 10 | M53: 4 | N53: 6 | O53: 0 | P53: 0 | Q53: 0 | R53: 26 | S53: 15 | T53: 11 | U53: 13 | V53: 11 | W53: 2 | X53: 0 | Y53: 0 | Z53: 0 | AA53: 14 | AB53: 7 | AC53: 7 | AD53: 10 | AE53: 6 | AF53: 4 | AG53: 2 | AH53: 2 | AI53: 0 | AJ53: 0 | AK53: 0 | AL53: 0 | AM53: 2 | AN53: 1 | AO53: 1 | AP53: 0 | AQ53: 0 | AR53: 0 | AS53: 1 | AT53: 0 | AU53: 1 | AV53: 0 | AW53: 0 | AX53: 0
B54: 48 | C54: 152 | D54: 105 | E54: 47 | F54: 55 | G54: 42 | H54: 13 | I54: 22 | J54: 14 | K54: 8 | L54: 4 | M54: 2 | N54: 2 | O54: 3 | P54: 2 | Q54: 1 | R54: 23 | S54: 16 | T54: 7 | U54: 13 | V54: 8 | W54: 5 | X54: 0 | Y54: 0 | Z54: 0 | AA54: 21 | AB54: 14 | AC54: 7 | AD54: 9 | AE54: 6 | AF54: 3 | AG54: 0 | AH54: 0 | AI54: 0 | AJ54: 0 | AK54: 0 | AL54: 0 | AM54: 0 | AN54: 0 | AO54: 0 | AP54: 1 | AQ54: 0 | AR54: 1 | AS54: 0 | AT54: 0 | AU54: 0 | AV54: 1 | AW54: 1 | AX54: 0
B55: 49 | C55: 169 | D55: 121 | E55: 48 | F55: 48 | G55: 39 | H55: 9 | I55: 16 | J55: 9 | K55: 7 | L55: 5 | M55: 1 | N55: 4 | O55: 1 | P55: 1 | Q55: 0 | R55: 39 | S55: 23 | T55: 16 | U55: 17 | V55: 12 | W55: 5 | X55: 0 | Y55: 0 | Z55: 0 | AA55: 28 | AB55: 23 | AC55: 5 | AD55: 8 | AE55: 7 | AF55: 1 | AG55: 0 | AH55: 0 | AI55: 0 | AJ55: 1 | AK55: 1 | AL55: 0 | AM55: 3 | AN55: 2 | AO55: 1 | AP55: 2 | AQ55: 2 | AR55: 0 | AS55: 0 | AT55: 0 | AU55: 0 | AV55: 1 | AW55: 1 | AX55: 0
B56: 50 | C56: 207 | D56: 139 | E56: 68 | F56: 83 | G56: 63 | H56: 20 | I56: 29 | J56: 15 | K56: 14 | L56: 9 | M56: 3 | N56: 6 | O56: 2 | P56: 1 | Q56: 1 | R56: 33 | S56: 26 | T56: 7 | U56: 17 | V56: 9 | W56: 8 | X56: 2 | Y56: 2 | Z56: 0 | AA56: 19 | AB56: 13 | AC56: 6 | AD56: 6 | AE56: 4 | AF56: 2 | AG56: 0 | AH56: 0 | AI56: 0 | AJ56: 1 | AK56: 1 | AL56: 0 | AM56: 3 | AN56: 0 | AO56: 3 | AP56: 1 | AQ56: 1 | AR56: 0 | AS56: 1 | AT56: 1 | AU56: 0 | AV56: 1 | AW56: 0 | AX56: 1
B57: 51 | C57: 218 | D57: 148 | E57: 70 | F57: 71 | G57: 59 | H57: 12 | I57: 27 | J57: 23 | K57: 4 | L57: 13 | M57: 4 | N57: 9 | O57: 4 | P57: 2 | Q57: 2 | R57: 25 | S57: 15 | T57: 10 | U57: 27 | V57: 14 | W57: 13 | X57: 1 | Y57: 1 | Z57: 0 | AA57: 31 | AB57: 17 | AC57: 14 | AD57: 12 | AE57: 10 | AF57: 2 | AG57: 0 | AH57: 0 | AI57: 0 | AJ57: 0 | AK57: 0 | AL57: 0 | AM57: 2 | AN57: 2 | AO57: 0 | AP57: 0 | AQ57: 0 | AR57: 0 | AS57: 2 | AT57: 1 | AU57: 1 | AV57: 3 | AW57: 0 | AX57: 3
B58: 52 | C58: 233 | D58: 151 | E58: 82 | F58: 72 | G58: 49 | H58: 23 | I58: 35 | J58: 20 | K58: 15 | L58: 11 | M58: 4 | N58: 7 | O58: 6 | P58: 5 | Q58: 1 | R58: 26 | S58: 18 | T58: 8 | U58: 26 | V58: 19 | W58: 7 | X58: 0 | Y58: 0 | Z58: 0 | AA58: 33 | AB58: 21 | AC58: 12 | AD58: 15 | AE58: 9 | AF58: 6 | AG58: 0 | AH58: 0 | AI58: 0 | AJ58: 1 | AK58: 1 | AL58: 0 | AM58: 3 | AN58: 3 | AO58: 0 | AP58: 2 | AQ58: 0 | AR58: 2 | AS58: 0 | AT58: 0 | AU58: 0 | AV58: 3 | AW58: 2 | AX58: 1
B59: 53 | C59: 259 | D59: 188 | E59: 71 | F59: 93 | G59: 75 | H59: 18 | I59: 34 | J59: 26 | K59: 8 | L59: 12 | M59: 7 | N59: 5 | O59: 3 | P59: 1 | Q59: 2 | R59: 27 | S59: 19 | T59: 8 | U59: 26 | V59: 18 | W59: 8 | X59: 1 | Y59: 1 | Z59: 0 | AA59: 39 | AB59: 22 | AC59: 17 | AD59: 13 | AE59: 12 | AF59: 1 | AG59: 1 | AH59: 0 | AI59: 1 | AJ59: 0 | AK59: 0 | AL59: 0 | AM59: 4 | AN59: 3 | AO59: 1 | AP59: 0 | AQ59: 0 | AR59: 0 | AS59: 1 | AT59: 1 | AU59: 0 | AV59: 5 | AW59: 3 | AX59: 2
... B90: 84 | C90: 510 | D90: 236 | E90: 274 | F90: 216 | G90: 73 | H90: 143 | I90: 58 | J90: 26 | K90: 32 | L90: 157 | M90: 95 | N90: 62 | O90: 1 | P90: 0 | Q90: 1 | R90: 2 | S90: 2 | T90: 0 | U90: 40 | V90: 22 | W90: 18 | X90: 0 | Y90: 0 | Z90: 0 | AA90: 2 | AB90: 0 | AC90: 2 | AD90: 17 | AE90: 8 | AF90: 9 | AG90: 1 | AH90: 0 | AI90: 1 | AJ90: 0 | AK90: 0 | AL90: 0 | AM90: 3 | AN90: 0 | AO90: 3 | AP90: 0 | AQ90: 0 | AR90: 0 | AS90: 12 | AT90: 9 | AU90: 3 | AV90: 1 | AW90: 1 | AX90: 0
A91: 합계 | B91: 85 | C91: 373 | D91: 171 | E91: 202 | F91: 156 | G91: 61 | H91: 95 | I91: 47 | J91: 24 | K91: 23 | L91: 120 | M91: 60 | N91: 60 | O91: 2 | P91: 2 | Q91: 0 | R91: 1 | S91: 1 | T91: 0 | U91: 23 | V91: 7 | W91: 16 | X91: 0 | Y91: 0 | Z91: 0 | AA91: 2 | AB91: 1 | AC91: 1 | AD91: 16 | AE91: 12 | AF91: 4 | AG91: 0 | AH91: 0 | AI91: 0 | AJ91: 0 | AK91: 0 | AL91: 0 | AM91: 0 | AN91: 0 | AO91: 0 | AP91: 0 | AQ91: 0 | AR91: 0 | AS91: 6 | AT91: 3 | AU91: 3 | AV91: 0 | AW91: 0 | AX91: 0
B92: 86 | C92: 369 | D92: 178 | E92: 191 | F92: 145 | G92: 53 | H92: 92 | I92: 37 | J92: 21 | K92: 16 | L92: 144 | M92: 87 | N92: 57 | O92: 1 | P92: 0 | Q92: 1 | R92: 0 | S92: 0 | T92: 0 | U92: 28 | V92: 8 | W92: 20 | X92: 0 | Y92: 0 | Z92: 0 | AA92: 0 | AB92: 0 | AC92: 0 | AD92: 8 | AE92: 5 | AF92: 3 | AG92: 0 | AH92: 0 | AI92: 0 | AJ92: 0 | AK92: 0 | AL92: 0 | AM92: 1 | AN92: 1 | AO92: 0 | AP92: 1 | AQ92: 0 | AR92: 1 | AS92: 4 | AT92: 3 | AU92: 1 | AV92: 0 | AW92: 0 | AX92: 0
B93: 87 | C93: 321 | D93: 129 | E93: 192 | F93: 112 | G93: 31 | H93: 81 | I93: 44 | J93: 22 | K93: 22 | L93: 112 | M93: 54 | N93: 58 | O93: 1 | P93: 1 | Q93: 0 | R93: 2 | S93: 1 | T93: 1 | U93: 31 | V93: 10 | W93: 21 | X93: 0 | Y93: 0 | Z93: 0 | AA93: 1 | AB93: 0 | AC93: 1 | AD93: 11 | AE93: 3 | AF93: 8 | AG93: 0 | AH93: 0 | AI93: 0 | AJ93: 2 | AK93: 2 | AL93: 0 | AM93: 0 | AN93: 0 | AO93: 0 | AP93: 0 | AQ93: 0 | AR93: 0 | AS93: 5 | AT93: 5 | AU93: 0 | AV93: 0 | AW93: 0 | AX93: 0
B94: 88 | C94: 282 | D94: 99 | E94: 183 | F94: 99 | G94: 24 | H94: 75 | I94: 21 | J94: 8 | K94: 13 | L94: 118 | M94: 49 | N94: 69 | O94: 1 | P94: 1 | Q94: 0 | R94: 1 | S94: 1 | T94: 0 | U94: 25 | V94: 6 | W94: 19 | X94: 0 | Y94: 0 | Z94: 0 | AA94: 0 | AB94: 0 | AC94: 0 | AD94: 10 | AE94: 5 | AF94: 5 | AG94: 0 | AH94: 0 | AI94: 0 | AJ94: 1 | AK94: 1 | AL94: 0 | AM94: 0 | AN94: 0 | AO94: 0 | AP94: 0 | AQ94: 0 | AR94: 0 | AS94: 6 | AT94: 4 | AU94: 2 | AV94: 0 | AW94: 0 | AX94: 0
B95: 89 | C95: 253 | D95: 96 | E95: 157 | F95: 95 | G95: 25 | H95: 70 | I95: 24 | J95: 11 | K95: 13 | L95: 102 | M95: 46 | N95: 56 | O95: 0 | P95: 0 | Q95: 0 | R95: 0 | S95: 0 | T95: 0 | U95: 22 | V95: 6 | W95: 16 | X95: 0 | Y95: 0 | Z95: 0 | AA95: 1 | AB95: 1 | AC95: 0 | AD95: 6 | AE95: 5 | AF95: 1 | AG95: 0 | AH95: 0 | AI95: 0 | AJ95: 1 | AK95: 1 | AL95: 0 | AM95: 0 | AN95: 0 | AO95: 0 | AP95: 0 | AQ95: 0 | AR95: 0 | AS95: 2 | AT95: 1 | AU95: 1 | AV95: 0 | AW95: 0 | AX95: 0
B96: 90 | C96: 181 | D96: 68 | E96: 113 | F96: 61 | G96: 14 | H96: 47 | I96: 14 | J96: 6 | K96: 8 | L96: 86 | M96: 36 | N96: 50 | O96: 1 | P96: 0 | Q96: 1 | R96: 0 | S96: 0 | T96: 0 | U96: 12 | V96: 8 | W96: 4 | X96: 0 | Y96: 0 | Z96: 0 | AA96: 0 | AB96: 0 | AC96: 0 | AD96: 4 | AE96: 2 | AF96: 2 | AG96: 0 | AH96: 0 | AI96: 0 | AJ96: 0 | AK96: 0 | AL96: 0 | AM96: 0 | AN96: 0 | AO96: 0 | AP96: 0 | AQ96: 0 | AR96: 0 | AS96: 3 | AT96: 2 | AU96: 1 | AV96: 0 | AW96: 0 | AX96: 0
B97: 91 | C97: 173 | D97: 56 | E97: 117 | F97: 65 | G97: 9 | H97: 56 | I97: 15 | J97: 2 | K97: 13 | L97: 70 | M97: 39 | N97: 31 | O97: 0 | P97: 0 | Q97: 0 | R97: 1 | S97: 0 | T97: 1 | U97: 16 | V97: 3 | W97: 13 | X97: 0 | Y97: 0 | Z97: 0 | AA97: 1 | AB97: 0 | AC97: 1 | AD97: 3 | AE97: 2 | AF97: 1 | AG97: 0 | AH97: 0 | AI97: 0 | AJ97: 0 | AK97: 0 | AL97: 0 | AM97: 0 | AN97: 0 | AO97: 0 | AP97: 0 | AQ97: 0 | AR97: 0 | AS97: 2 | AT97: 1 | AU97: 1 | AV97: 0 | AW97: 0 | AX97: 0
B98: 92 | C98: 108 | D98: 38 | E98: 70 | F98: 39 | G98: 9 | H98: 30 | I98: 6 | J98: 2 | K98: 4 | L98: 55 | M98: 24 | N98: 31 | O98: 2 | P98: 1 | Q98: 1 | R98: 0 | S98: 0 | T98: 0 | U98: 6 | V98: 2 | W98: 4 | X98: 0 | Y98: 0 | Z98: 0 | AA98: 0 | AB98: 0 | AC98: 0 | AD98: 0 | AE98: 0 | AF98: 0 | AG98: 0 | AH98: 0 | AI98: 0 | AJ98: 0 | AK98: 0 | AL98: 0 | AM98: 0 | AN98: 0 | AO98: 0 | AP98: 0 | AQ98: 0 | AR98: 0 | AS98: 0 | AT98: 0 | AU98: 0 | AV98: 0 | AW98: 0 | AX98: 0
B99: 93 | C99: 85 | D99: 32 | E99: 53 | F99: 18 | G99: 4 | H99: 14 | I99: 10 | J99: 4 | K99: 6 | L99: 46 | M99: 21 | N99: 25 | O99: 0 | P99: 0 | Q99: 0 | R99: 0 | S99: 0 | T99: 0 | U99: 8 | V99: 2 | W99: 6 | X99: 0 | Y99: 0 | Z99: 0 | AA99: 0 | AB99: 0 | AC99: 0 | AD99: 3 | AE99: 1 | AF99: 2 | AG99: 0 | AH99: 0 | AI99: 0 | AJ99: 0 | AK99: 0 | AL99: 0 | AM99: 0 | AN99: 0 | AO99: 0 | AP99: 0 | AQ99: 0 | AR99: 0 | AS99: 0 | AT99: 0 | AU99: 0 | AV99: 0 | AW99: 0 | AX99: 0
B100: 94 | C100: 54 | D100: 15 | E100: 39 | F100: 15 | G100: 2 | H100: 13 | I100: 4 | J100: 1 | K100: 3 | L100: 34 | M100: 12 | N100: 22 | O100: 0 | P100: 0 | Q100: 0 | R100: 0 | S100: 0 | T100: 0 | U100: 1 | V100: 0 | W100: 1 | X100: 0 | Y100: 0 | Z100: 0 | AA100: 0 | AB100: 0 | AC100: 0 | AD100: 0 | AE100: 0 | AF100: 0 | AG100: 0 | AH100: 0 | AI100: 0 | AJ100: 0 | AK100: 0 | AL100: 0 | AM100: 0 | AN100: 0 | AO100: 0 | AP100: 0 | AQ100: 0 | AR100: 0 | AS100: 0 | AT100: 0 | AU100: 0 | AV100: 0 | AW100: 0 | AX100: 0
B101: 95 | C101: 40 | D101: 15 | E101: 25 | F101: 9 | G101: 2 | H101: 7 | I101: 8 | J101: 3 | K101: 5 | L101: 19 | M101: 7 | N101: 12 | O101: 0 | P101: 0 | Q101: 0 | R101: 0 | S101: 0 | T101: 0 | U101: 2 | V101: 1 | W101: 1 | X101: 0 | Y101: 0 | Z101: 0 | AA101: 0 | AB101: 0 | AC101: 0 | AD101: 0 | AE101: 0 | AF101: 0 | AG101: 0 | AH101: 0 | AI101: 0 | AJ101: 0 | AK101: 0 | AL101: 0 | AM101: 0 | AN101: 0 | AO101: 0 | AP101: 0 | AQ101: 0 | AR101: 0 | AS101: 2 | AT101: 2 | AU101: 0 | AV101: 0 | AW101: 0 | AX101: 0
B102: 96 | C102: 26 | D102: 10 | E102: 16 | F102: 6 | G102: 1 | H102: 5 | I102: 0 | J102: 0 | K102: 0 | L102: 17 | M102: 6 | N102: 11 | O102: 0 | P102: 0 | Q102: 0 | R102: 0 | S102: 0 | T102: 0 | U102: 1 | V102: 1 | W102: 0 | X102: 0 | Y102: 0 | Z102: 0 | AA102: 0 | AB102: 0 | AC102: 0 | AD102: 1 | AE102: 1 | AF102: 0 | AG102: 0 | AH102: 0 | AI102: 0 | AJ102: 1 | AK102: 1 | AL102: 0 | AM102: 0 | AN102: 0 | AO102: 0 | AP102: 0 | AQ102: 0 | AR102: 0 | AS102: 0 | AT102: 0 | AU102: 0 | AV102: 0 | AW102: 0 | AX102: 0
B103: 97 | C103: 23 | D103: 8 | E103: 15 | F103: 8 | G103: 2 | H103: 6 | I103: 3 | J103: 1 | K103: 2 | L103: 11 | M103: 4 | N103: 7 | O103: 0 | P103: 0 | Q103: 0 | R103: 0 | S103: 0 | T103: 0 | U103: 0 | V103: 0 | W103: 0 | X103: 0 | Y103: 0 | Z103: 0 | AA103: 0 | AB103: 0 | AC103: 0 | AD103: 0 | AE103: 0 | AF103: 0 | AG103: 0 | AH103: 0 | AI103: 0 | AJ103: 0 | AK103: 0 | AL103: 0 | AM103: 0 | AN103: 0 | AO103: 0 | AP103: 0 | AQ103: 0 | AR103: 0 | AS103: 1 | AT103: 1 | AU103: 0 | AV103: 0 | AW103: 0 | AX103: 0
... B112: 107 | C112: 1 | D112: 0 | E112: 1 | F112: 0 | G112: 0 | H112: 0 | I112: 0 | J112: 0 | K112: 0 | L112: 1 | M112: 0 | N112: 1 | O112: 0 | P112: 0 | Q112: 0 | R112: 0 | S112: 0 | T112: 0 | U112: 0 | V112: 0 | W112: 0 | X112: 0 | Y112: 0 | Z112: 0 | AA112: 0 | AB112: 0 | AC112: 0 | AD112: 0 | AE112: 0 | AF112: 0 | AG112: 0 | AH112: 0 | AI112: 0 | AJ112: 0 | AK112: 0 | AL112: 0 | AM112: 0 | AN112: 0 | AO112: 0 | AP112: 0 | AQ112: 0 | AR112: 0 | AS112: 0 | AT112: 0 | AU112: 0 | AV112: 0 | AW112: 0 | AX112: 0

Sheet Sheet1
A1: 구산동 | B1: 2238
A2: 역촌동 | B2: 2143
A3: 진관동 | B3: 1968
A4: 불광1동 | B4: 1720
A5: 녹번동 | B5: 1641
A6: 불광2동 | B6: 1442
A7: 응암3동 | B7: 1327
A8: 응암1동 | B8: 1326
A9: 대조동 | B9: 1230
A10: 신사1동 | B10: 1229
A11: 갈현2동 | B11: 1204
A12: 갈현1동 | B12: 1046
... A16: 수색동 | B16: 623

Sheet Sheet2
A1: 은평구 동별 장애인현황(유형별) (2024. 3월말)
A2: 동별 | B2: 합계 | E2: 지적 | H2: 자폐 | K2: 발달장애인 | N2: 발달장애인비율
B3: 합계 | C3: 남성 | D3: 여성 | E3: 소계 | F3: 남성 | G3: 여성 | H3: 소계 | I3: 남성 | J3: 여성 | K3: 소계 | L3: 남성 | M3: 여성
A4: 합 계 | B4: =C4+D4 -> 21050 | C4: =SUM(C5:C20) -> 12217 | D4: =SUM(D5:D20) -> 8833 | E4: =F4+G4 -> 1882 | F4: =SUM(F5:F20) -> 1221 | G4: =SUM(G5:G20) -> 661 | H4: =I4+J4 -> 559 | I4: =SUM(I5:I20) -> 458 | J4: =SUM(J5:J20) -> 101 | K4: =L4+M4 -> 2441 | L4: =F4+I4 -> 1679 | M4: =G4+J4 -> 762 | N4: =K4/B4 -> 0.115962
A5: 녹번동 | B5: =C5+D5 -> 1612 | C5: =유형별!C5 -> 923 | D5: =유형별!D5 -> 689 | E5: =F5+G5 -> 117 | F5: =유형별!R5 -> 74 | G5: =유형별!S5 -> 43 | H5: =I5+J5 -> 26 | I5: =유형별!X5 -> 21 | J5: =유형별!Y5 -> 5 | K5: =E5+H5 -> 143 | L5: =F5+I5 -> 95 | M5: =G5+J5 -> 48 | N5: =K5/B5 -> 0.088709677
A6: 불광1동 | B6: =C6+D6 -> 1385 | C6: =유형별!C6 -> 769 | D6: =유형별!D6 -> 616 | E6: =F6+G6 -> 107 | F6: =유형별!R6 -> 63 | G6: =유형별!S6 -> 44 | H6: =I6+J6 -> 33 | I6: =유형별!X6 -> 27 | J6: =유형별!Y6 -> 6 | K6: =E6+H6 -> 140 | L6: =F6+I6 -> 90 | M6: =G6+J6 -> 50 | N6: =K6/B6 -> 0.10108303
A7: 불광2동 | B7: =C7+D7 -> 1457 | C7: =유형별!C7 -> 847 | D7: =유형별!D7 -> 610 | E7: =F7+G7 -> 115 | F7: =유형별!R7 -> 67 | G7: =유형별!S7 -> 48 | H7: =I7+J7 -> 35 | I7: =유형별!X7 -> 35 | J7: =유형별!Y7 -> 0 | K7: =E7+H7 -> 150 | L7: =F7+I7 -> 102 | M7: =G7+J7 -> 48 | N7: =K7/B7 -> 0.10295127
A8: 갈현1동 | B8: =C8+D8 -> 692 | C8: =유형별!C8 -> 400 | D8: =유형별!D8 -> 292 | E8: =F8+G8 -> 61 | F8: =유형별!R8 -> 38 | G8: =유형별!S8 -> 23 | H8: =I8+J8 -> 19 | I8: =유형별!X8 -> 17 | J8: =유형별!Y8 -> 2 | K8: =E8+H8 -> 80 | L8: =F8+I8 -> 55 | M8: =G8+J8 -> 25 | N8: =K8/B8 -> 0.11560694 | R8: =2206/21767 -> 0.10134607
A9: 갈현2동 | B9: =C9+D9 -> 1235 | C9: =유형별!C9 -> 711 | D9: =유형별!D9 -> 524 | E9: =F9+G9 -> 101 | F9: =유형별!R9 -> 62 | G9: =유형별!S9 -> 39 | H9: =I9+J9 -> 25 | I9: =유형별!X9 -> 17 | J9: =유형별!Y9 -> 8 | K9: =E9+H9 -> 126 | L9: =F9+I9 -> 79 | M9: =G9+J9 -> 47 | N9: =K9/B9 -> 0.10202429
A10: 구산동 | B10: =C10+D10 -> 2095 | C10: =유형별!C10 -> 1432 | D10: =유형별!D10 -> 663 | E10: =F10+G10 -> 389 | F10: =유형별!R10 -> 303 | G10: =유형별!S10 -> 86 | H10: =I10+J10 -> 54 | I10: =유형별!X10 -> 42 | J10: =유형별!Y10 -> 12 | K10: =E10+H10 -> 443 | L10: =F10+I10 -> 345 | M10: =G10+J10 -> 98 | N10: =K10/B10 -> 0.21145585
A11: 대조동 | B11: =C11+D11 -> 1225 | C11: =유형별!C11 -> 698 | D11: =유형별!D11 -> 527 | E11: =F11+G11 -> 72 | F11: =유형별!R11 -> 51 | G11: =유형별!S11 -> 21 | H11: =I11+J11 -> 27 | I11: =유형별!X11 -> 21 | J11: =유형별!Y11 -> 6 | K11: =E11+H11 -> 99 | L11: =F11+I11 -> 72 | M11: =G11+J11 -> 27 | N11: =K11/B11 -> 0.080816327
A12: 응암1동 | B12: =C12+D12 -> 1305 | C12: =유형별!C12 -> 719 | D12: =유형별!D12 -> 586 | E12: =F12+G12 -> 71 | F12: =유형별!R12 -> 43 | G12: =유형별!S12 -> 28 | H12: =I12+J12 -> 33 | I12: =유형별!X12 -> 27 | J12: =유형별!Y12 -> 6 | K12: =E12+H12 -> 104 | L12: =F12+I12 -> 70 | M12: =G12+J12 -> 34 | N12: =K12/B12 -> 0.079693487
A13: 응암2동 | B13: =C13+D13 -> 953 | C13: =유형별!C13 -> 537 | D13: =유형별!D13 -> 416 | E13: =F13+G13 -> 77 | F13: =유형별!R13 -> 50 | G13: =유형별!S13 -> 27 | H13: =I13+J13 -> 36 | I13: =유형별!X13 -> 30 | J13: =유형별!Y13 -> 6 | K13: =E13+H13 -> 113 | L13: =F13+I13 -> 80 | M13: =G13+J13 -> 33 | N13: =K13/B13 -> 0.11857293
A14: 응암3동 | B14: =C14+D14 -> 1319 | C14: =유형별!C14 -> 725 | D14: =유형별!D14 -> 594 | E14: =F14+G14 -> 90 | F14: =유형별!R14 -> 59 | G14: =유형별!S14 -> 31 | H14: =I14+J14 -> 26 | I14: =유형별!X14 -> 19 | J14: =유형별!Y14 -> 7 | K14: =E14+H14 -> 116 | L14: =F14+I14 -> 78 | M14: =G14+J14 -> 38 | N14: =K14/B14 -> 0.087945413
A15: 역촌동 | B15: =C15+D15 -> 2192 | C15: =유형별!C15 -> 1237 | D15: =유형별!D15 -> 955 | E15: =F15+G15 -> 204 | F15: =유형별!R15 -> 127 | G15: =유형별!S15 -> 77 | H15: =I15+J15 -> 49 | I15: =유형별!X15 -> 42 | J15: =유형별!Y15 -> 7 | K15: =E15+H15 -> 253 | L15: =F15+I15 -> 169 | M15: =G15+J15 -> 84 | N15: =K15/B15 -> 0.11541971
A16: 신사1동 | B16: =C16+D16 -> 1272 | C16: =유형별!C16 -> 749 | D16: =유형별!D16 -> 523 | E16: =F16+G16 -> 157 | F16: =유형별!R16 -> 89 | G16: =유형별!S16 -> 68 | H16: =I16+J16 -> 32 | I16: =유형별!X16 -> 23 | J16: =유형별!Y16 -> 9 | K16: =E16+H16 -> 189 | L16: =F16+I16 -> 112 | M16: =G16+J16 -> 77 | N16: =K16/B16 -> 0.14858491
A17: 신사2동 | B17: =C17+D17 -> 914 | C17: =유형별!C17 -> 527 | D17: =유형별!D17 -> 387 | E17: =F17+G17 -> 84 | F17: =유형별!R17 -> 45 | G17: =유형별!S17 -> 39 | H17: =I17+J17 -> 21 | I17: =유형별!X17 -> 17 | J17: =유형별!Y17 -> 4 | K17: =E17+H17 -> 105 | L17: =F17+I17 -> 62 | M17: =G17+J17 -> 43 | N17: =K17/B17 -> 0.11487965
A18: 증산동 | B18: =C18+D18 -> 641 | C18: =유형별!C18 -> 372 | D18: =유형별!D18 -> 269 | E18: =F18+G18 -> 41 | F18: =유형별!R18 -> 24 | G18: =유형별!S18 -> 17 | H18: =I18+J18 -> 17 | I18: =유형별!X18 -> 16 | J18: =유형별!Y18 -> 1 | K18: =E18+H18 -> 58 | L18: =F18+I18 -> 40 | M18: =G18+J18 -> 18 | N18: =K18/B18 -> 0.090483619
A19: 수색동 | B19: =C19+D19 -> 827 | C19: =유형별!C19 -> 443 | D19: =유형별!D19 -> 384 | E19: =F19+G19 -> 63 | F19: =유형별!R19 -> 42 | G19: =유형별!S19 -> 21 | H19: =I19+J19 -> 30 | I19: =유형별!X19 -> 24 | J19: =유형별!Y19 -> 6 | K19: =E19+H19 -> 93 | L19: =F19+I19 -> 66 | M19: =G19+J19 -> 27 | N19: =K19/B19 -> 0.11245466
A20: 진관동 | B20: =C20+D20 -> 1926 | C20: =유형별!C20 -> 1128 | D20: =유형별!D20 -> 798 | E20: =F20+G20 -> 133 | F20: =유형별!R20 -> 84 | G20: =유형별!S20 -> 49 | H20: =I20+J20 -> 96 | I20: =유형별!X20 -> 80 | J20: =유형별!Y20 -> 16 | K20: =E20+H20 -> 229 | L20: =F20+I20 -> 164 | M20: =G20+J20 -> 65 | N20: =K20/B20 -> 0.11889927
A22: *발달장애인 수는 2,206명으로 전체 장애인의 10.1%

Sheet Sheet3
A2: 자치구 | B2: 장애유형 | C2: 2023 | G2: 자치구 | H2: 장애유형 | I2: 2022 | M2: 자치구 | N2: 장애유형 | O2: 2021
C3: 계 | D3: 남 | E3: 여 | I3: 계 | J3: 남 | K3: 여 | O3: 계 | P3: 남 | Q3: 여
A4: 은평구 | B4: 합 계 | C4: 21602 | D4: 12604 | E4: 8998 | G4: 은평구 | H4: 합 계 | I4: =SUM(I5:I19) -> 21753 | J4: =SUM(J5:J19) -> 12687 | K4: =SUM(K5:K19) -> 9066 | M4: 은평구 | N4: 합 계 | O4: 21753 | P4: 12704 | Q4: 9049
B5: 지체 | C5: 8636 | D5: 4714 | E5: 3922 | H5: 지체 | I5: 8837 | J5: 4842 | K5: 3995 | N5: 지체 | O5: 8917 | P5: 4897 | Q5: 4020
B6: 시각 | C6: 2265 | D6: 1340 | E6: 925 | H6: 시각 | I6: 2274 | J6: 1364 | K6: 910 | N6: 시각 | O6: 2315 | P6: 1387 | Q6: 928
B7: 청각 | C7: 3350 | D7: 1869 | E7: 1481 | H7: 청각 | I7: 3350 | J7: 1853 | K7: 1497 | N7: 청각 | O7: 3282 | P7: 1814 | Q7: 1468
B8: 언어 | C8: 173 | D8: 124 | E8: 49 | H8: 언어 | I8: 181 | J8: 134 | K8: 47 | N8: 언어 | O8: 177 | P8: 129 | Q8: 48
B9: 지적 | C9: 1863 | D9: 1222 | E9: 641 | H9: 지적 | I9: 1828 | J9: 1200 | K9: 628 | N9: 지적 | O9: 1805 | P9: 1185 | Q9: 620
B10: 뇌병변 | C10: 2188 | D10: 1307 | E10: 881 | H10: 뇌병변 | I10: 2218 | J10: 1318 | K10: 900 | N10: 뇌병변 | O10: 2244 | P10: 1349 | Q10: 895
B11: 자폐성 | C11: 450 | D11: 377 | E11: 73 | H11: 자폐성 | I11: 396 | J11: 333 | K11: 63 | N11: 자폐성 | O11: 355 | P11: 298 | Q11: 57
B12: 정신 | C12: 1137 | D12: 696 | E12: 441 | H12: 정신 | I12: 1148 | J12: 705 | K12: 443 | N12: 정신 | O12: 1162 | P12: 718 | Q12: 444
B13: 신장 | C13: 928 | D13: 569 | E13: 359 | H13: 신장 | I13: 894 | J13: 542 | K13: 352 | N13: 신장 | O13: 874 | P13: 533 | Q13: 341
B14: 심장 | C14: 49 | D14: 26 | E14: 23 | H14: 심장 | I14: 55 | J14: 24 | K14: 31 | N14: 심장 | O14: 55 | P14: 26 | Q14: 29
B15: 호흡기 | C15: 122 | D15: 88 | E15: 34 | H15: 호흡기 | I15: 120 | J15: 86 | K15: 34 | N15: 호흡기 | O15: 130 | P15: 92 | Q15: 38
B16: 간 | C16: 164 | D16: 109 | E16: 55 | H16: 간 | I16: 168 | J16: 113 | K16: 55 | N16: 간 | O16: 166 | P16: 114 | Q16: 52
... B19: 뇌전증 | C19: 65 | D19: 32 | E19: 33 | H19: 뇌전증 | I19: 68 | J19: 36 | K19: 32 | N19: 뇌전증 | O19: 67 | P19: 36 | Q19: 31
C22: 2023 | D22: 2022 | E22: 2021 | G22: 2024 | H22: 2025 | I22: 2026 | J22: 2027 | K22: 2028
A23: 외부신체기능장애 | C23: =SUM(C5,C10,C6,C7,C8,C17) -> 16637 | D23: =SUM(I5,I10,I6,I7,I8,I17) -> 16882 | E23: =SUM(O5,O10,O6,O7,O8,O17) -> 16958 | G23: =C23+C23*$G$29 -> 16478.998 | H23: =G23+G23*$G$29 -> 16322.497 | I23: =H23+H23*$G$29 -> 16167.483 | J23: =I23+I23*$G$29 -> 16013.94 | K23: =J23+J23*$G$29 -> 15861.856
A24: 내부기관장애 | C24: =SUM(C13,C14,C16,C15,C18,C19) -> 1515 | D24: =SUM(I13:I16,I18,I19) -> 1499 | E24: =SUM(O13:O16,O18:O19) -> 1473 | G24: =C24+C24*$G$30 -> 1536.4524 | H24: =G24+G24*$G$30 -> 1558.2086 | I24: =H24+H24*$G$30 -> 1580.2728 | J24: =I24+I24*$G$30 -> 1602.6495 | K24: =J24+J24*$G$30 -> 1625.343
A25: 정신적장애 | C25: =SUM(C9,C12,C11) -> 3450 | D25: =SUM(I9,I11,I12) -> 3372 | E25: =SUM(O9,O11,O12) -> 3322 | G25: =C25+C25*$G$31 -> 3515.8605 | H25: =G25+G25*$G$31 -> 3582.9783 | I25: =H25+H25*$G$31 -> 3651.3773 | J25: =I25+I25*$G$31 -> 3721.0821 | K25: =J25+J25*$G$31 -> 3792.1176
A26: 계 | C26: =SUM(C23:C25) -> 21602 | D26: =SUM(D23:D25) -> 21753 | E26: =SUM(E23:E25) -> 21753 | G26: =SUM(G23:G25) -> 21531.311 | H26: =SUM(H23:H25) -> 21463.684 | I26: =SUM(I23:I25) -> 21399.133 | J26: =SUM(J23:J25) -> 21337.672 | K26: =SUM(K23:K25) -> 21279.316
A29: 외부신체기능장애 | C29: =(D23-C23)/D23 -> 0.014512499 | D29: =(E23-D23)/E23 -> 0.0044816606 | F29: =(C29+D29)/2 -> 0.0094970795 | G29: -0.009497
A30: 내부기관장애 | C30: =(D24-C24)/D24 -> -0.010673783 | D30: =(E24-D24)/E24 -> -0.017651052 | F30: =(C30+D30)/2 -> -0.014162417 | G30: 0.01416
A31: 정신적장애 | C31: =(D25-C25)/D25 -> -0.023131673 | D31: =(E25-D25)/E25 -> -0.015051174 | F31: =(C31+D31)/2 -> -0.019091423 | G31: 0.01909
A32: 계
C36: 2024 | D36: 2025 | E36: 2026 | F36: 2027 | G36: 2028
C37: -0.0026
A38: 외부신체기능장애 | B38: 16637 | C38: 16593.744 | D38: 16550.6 | E38: 16507.569 | F38: 16464.649 | G38: 16421.841
A39: 내부기관장애 | B39: 1515 | C39: 1511.061 | D39: 1507.1322 | E39: 1503.2137 | F39: 1499.3053 | G39: 1495.4071
A40: 정신적장애 | B40: 3450 | C40: 3441.03 | D40: 3432.0833 | E40: 3423.1599 | F40: 3414.2597 | G40: 3405.3826
B41: 21602 | C41: 21545.835 | D41: 21489.816 | E41: 21433.942 | F41: 21378.214 | G41: 21322.631
